BEGIN:VCALENDAR
VERSION:2.0
PRODID:-//wp-events-plugin.com//7.2.3.1//EN
TZID:Europe/Berlin
X-WR-TIMEZONE:Europe/Berlin
BEGIN:VEVENT
UID:91@dresden-west.de
DTSTART;TZID=Europe/Berlin:20140410T180000
DTEND;TZID=Europe/Berlin:20140410T210000
DTSTAMP:20150123T085602Z
URL:https://www.dresden-west.de/termine/sitzung-des-ortsbeirates-cotta-10-
 04-2014/
SUMMARY:Sitzung des Ortsbeirates Cotta 10.04.2014
DESCRIPTION:Sitzungstermin des Ortsbeirats Cotta im Rathaus Cotta um 18 Uhr
 .\n\nAuf der Tagesordnung steht:\n\n	Sanierungsgebiet Dresden S 6/1\, Dres
 den-Löbtau - Straßenraumumgestaltung Poststraße V2673/13\n	Klarstellun
 gs- und Ergänzungssatzung Nr. 441\, Dresden-Leutewitz Nr. 1\, Ockerwitzer
  Straße V2805/14\n	UrbanArt (StreetArt und Graffiti) in Dresden A0872/1
 4 (Antrag Bündnis 90/Die Grünen)\n\n 
LOCATION:Rathaus Cotta\, Lübecker Straße 121\, Dresden\, 01157\, Deutschl
 and
GEO:51.0561829;13.688185400000066
X-APPLE-STRUCTURED-LOCATION;VALUE=URI;X-ADDRESS=Lübecker Straße 121\, Dre
 sden\, 01157\, Deutschland;X-APPLE-RADIUS=100;X-TITLE=Rathaus Cotta:geo:51
 .0561829,13.688185400000066
END:VEVENT
BEGIN:VTIMEZONE
TZID:Europe/Berlin
X-LIC-LOCATION:Europe/Berlin
BEGIN:DAYLIGHT
DTSTART:20140330T030000
TZOFFSETFROM:+0100
TZOFFSETTO:+0200
TZNAME:CEST
END:DAYLIGHT
END:VTIMEZONE
END:VCALENDAR